BEGIN:VCALENDAR
VERSION:2.0
CALSCALE:GREGORIAN
PRODID:-//Diputació de Barcelona//DibaCMS//EN
BEGIN:VEVENT
UID:6063
DTSTAMP:20260422T060550
DTSTART:20130507T000000
DTEND:20140527T000000
SUMMARY:Finalitzen les Jornades de música i cant coral amb menys públic que anys anteriors
LOCATION:
METHOD:PUBLISH
X-WR-CALNAME:llagosta@llagosta.cat
X-WR-TIMEZONE:Europe/Madrid
DESCRIPTION:Les Jornades de música i cant coral, organitzades per la Coral Miranda de la Llagosta, han patit aquest any una davallada de públic. Diumenge, es va celebrar el segon concert que, com el primer, no va registrar la mateixa entrada que en edicions anteriors.
URI:https://www.llagosta.cat/actualitat/noticies/finalitzen-les-jornades-de-musica-i-cant-coral-amb-menys-public-que-anys-anteriors.html
CLASS:PUBLIC
END:VEVENT
END:VCALENDAR
