BEGIN:VCALENDAR
VERSION:2.0
CALSCALE:GREGORIAN
PRODID:-//Diputació de Barcelona//DibaCMS//EN
BEGIN:VEVENT
UID:6062
DTSTAMP:20260423T061153
DTSTART:20130507T000000
DTEND:20140502T000000
SUMMARY:El sènior del Joventut Handbol està a un pas d'aconseguir l'ascens a Tercera Preferent
LOCATION:
METHOD:PUBLISH
X-WR-CALNAME:llagosta@llagosta.cat
X-WR-TIMEZONE:Europe/Madrid
DESCRIPTION:El sènior del Joventut Handbol La Llagosta va guanyar dissabte per un contundent 36 a 22 el Sant Llorenç-Sant Feliu de Llobregat B i està a un pas d'aconseguir l'ascens a la Tercera Preferent. Els llagostencs necessiten sumar només un punt en els dos partits que tenen pendents per pujar de categoria.
URI:https://www.llagosta.cat/actualitat/noticies/el-senior-del-joventut-handbol-esta-a-un-pas-daconseguir-lascens-a-tercera-preferent.html
CLASS:PUBLIC
END:VEVENT
END:VCALENDAR
