BEGIN:VCALENDAR
VERSION:2.0
CALSCALE:GREGORIAN
PRODID:-//Diputació de Barcelona//DibaCMS//EN
BEGIN:VEVENT
UID:6061
DTSTAMP:20260422T034540
DTSTART:20130507T000000
DTEND:20140527T000000
SUMMARY:El Club Deportivo Viejas Glorias derrota el Júpiter (0-4) i suma la segona victòria seguida
LOCATION:
METHOD:PUBLISH
X-WR-CALNAME:llagosta@llagosta.cat
X-WR-TIMEZONE:Europe/Madrid
DESCRIPTION:El Club Deportivo Viejas Glorias va guanyar la jornada passada per 0 a 4 al camp del Júpiter. Els llagostencs van ser molt superiors al seu rival, sobretot a la primera part, quan van arribar tots els gols.
URI:https://www.llagosta.cat/actualitat/noticies/el-club-deportivo-viejas-glorias-derrota-el-jupiter-0-4-i-suma-la-segona-victoria-seguida.html
CLASS:PUBLIC
END:VEVENT
END:VCALENDAR
