BEGIN:VCALENDAR
VERSION:2.0
CALSCALE:GREGORIAN
PRODID:-//Diputació de Barcelona//DibaCMS//EN
BEGIN:VEVENT
UID:6060
DTSTAMP:20260422T113649
DTSTART:20130506T000000
DTEND:20140506T000000
SUMMARY:Avui s'ha obert el període de preinscripció de l'Escola Bressol Municipal Cucutras©
LOCATION:
METHOD:PUBLISH
X-WR-CALNAME:llagosta@llagosta.cat
X-WR-TIMEZONE:Europe/Madrid
DESCRIPTION:Ja està obert el període de preinscripció de l'Escola Bressol Municipal Cucutras per al curs 2013-2014. Aquest tràmit es pot realitzar fins al 17 de maig al mateix centre.
L'horari d'atenció de la guarderia és dilluns, dimecres, dijous i divendres al matí, de nou a dos quarts d'onze, i dimarts a la tarda, de quatre a cinc. 
URI:https://www.llagosta.cat/actualitat/noticies/avui-sha-obert-el-periode-de-preinscripcio-de-lescola-bressol-municipal-cucutras.html
CLASS:PUBLIC
END:VEVENT
END:VCALENDAR
