BEGIN:VCALENDAR
VERSION:2.0
CALSCALE:GREGORIAN
PRODID:-//Diputació de Barcelona//DibaCMS//EN
BEGIN:VEVENT
UID:6059
DTSTAMP:20260422T184552
DTSTART:20130506T000000
DTEND:20140506T000000
SUMMARY:La Comissió de Preus de Catalunya dóna la raó a l'Ajuntament sobre l'increment de l'aigua
LOCATION:
METHOD:PUBLISH
X-WR-CALNAME:llagosta@llagosta.cat
X-WR-TIMEZONE:Europe/Madrid
DESCRIPTION:La Comissió de Preus de Catalunya ha emès una resolució que dóna la raó a l'Ajuntament de la Llagosta respecte a l'increment del preu del subministrament d'aigua que va aprovar el ple municipal i que, per a aquest any, és d'un 2,9%. 
URI:https://www.llagosta.cat/actualitat/noticies/la-comissio-de-preus-de-catalunya-dona-la-rao-a-lajuntament-sobre-lincrement-de-laigua.html
CLASS:PUBLIC
END:VEVENT
END:VCALENDAR
