BEGIN:VCALENDAR
VERSION:2.0
CALSCALE:GREGORIAN
PRODID:-//Diputació de Barcelona//DibaCMS//EN
BEGIN:VEVENT
UID:6057
DTSTAMP:20260422T095336
DTSTART:20130506T000000
DTEND:20140506T000000
SUMMARY:Una delegació del Marroc vindrà demà a la Llagosta per conèixer el projecte Suem la samarreta
LOCATION:
METHOD:PUBLISH
X-WR-CALNAME:llagosta@llagosta.cat
X-WR-TIMEZONE:Europe/Madrid
DESCRIPTION:Una delegació d'alcaldes del Marroc visitarà demà l'Ajuntament de la Llagosta per conèixer detalladament el projecte de creació d'empreses i d'activitat econòmica en el sector físic-esportiu i de lleure Suem la samarreta, ens mullem contra l'atur. Durant la jornada de treball, que tindrà lloc a partir de les 9.30 hores a la Sala de Plens de l'Ajuntament de la Llagosta, representants del Consistori de Cerdanyola del Vallès també presentaran a la delegació marroquina un projecte de dinamització econòmica i creació d'ocupació.
URI:https://www.llagosta.cat/actualitat/noticies/una-delegacio-del-marroc-vindra-dema-a-la-llagosta-per-coneixer-el-projecte-suem-la-samarreta.html
CLASS:PUBLIC
END:VEVENT
END:VCALENDAR
