BEGIN:VCALENDAR
VERSION:2.0
CALSCALE:GREGORIAN
PRODID:-//Diputació de Barcelona//DibaCMS//EN
BEGIN:VEVENT
UID:6056
DTSTAMP:20260422T225143
DTSTART:20130506T000000
DTEND:20140506T000000
SUMMARY:El FS Unión Llagostense empata contra l'Esplais (8-8) i acaba la lliga en quarta posició
LOCATION:
METHOD:PUBLISH
X-WR-CALNAME:llagosta@llagosta.cat
X-WR-TIMEZONE:Europe/Madrid
DESCRIPTION:El primer equip del Fútbol Sala Unión Llagostense ha acabat la lliga en quarta posició després d'empatar a vuit gols en la darrera jornada a la pista de l'Esplais, el segon classificat. Els llagostencs s'hi van desplaçar amb només sis jugadors, però van plantar cara a un dels millors equips del grup, que fins a la darrera jornada s'ha jugat el títol de lliga amb el Ripoll.
URI:https://www.llagosta.cat/actualitat/noticies/el-fs-union-llagostense-empata-contra-lesplais-8-8-i-acaba-la-lliga-en-quarta-posicio.html
CLASS:PUBLIC
END:VEVENT
END:VCALENDAR
