BEGIN:VCALENDAR
VERSION:2.0
CALSCALE:GREGORIAN
PRODID:-//Diputació de Barcelona//DibaCMS//EN
BEGIN:VEVENT
UID:6055
DTSTAMP:20260422T141606
DTSTART:20130503T000000
DTEND:20140503T000000
SUMMARY:Diumenge, segon i darrer concert de les vuitenes Jornades de música i cant coral
LOCATION:
METHOD:PUBLISH
X-WR-CALNAME:llagosta@llagosta.cat
X-WR-TIMEZONE:Europe/Madrid
DESCRIPTION:El Centre Cultural de la Llagosta acollirà diumenge el segon concert de les vuitenes Jornades de música i cant coral de la nostra localitat. El recital començarà a dos quarts de vuit del vespre.
URI:https://www.llagosta.cat/actualitat/noticies/diumenge-segon-i-darrer-concert-de-les-vuitenes-jornades-de-musica-i-cant-coral.html
CLASS:PUBLIC
END:VEVENT
END:VCALENDAR
