BEGIN:VCALENDAR
VERSION:2.0
CALSCALE:GREGORIAN
PRODID:-//Diputació de Barcelona//DibaCMS//EN
BEGIN:VEVENT
UID:6054
DTSTAMP:20260422T112503
DTSTART:20130503T000000
DTEND:20140503T000000
SUMMARY:La 30a edició del Concurs de Cante Jondo comença demà amb la primera preliminar
LOCATION:
METHOD:PUBLISH
X-WR-CALNAME:llagosta@llagosta.cat
X-WR-TIMEZONE:Europe/Madrid
DESCRIPTION:demà, comença la trentena edició del Concurs de Cante Jondo Ciutat de la Llagosta, organitzat per la Casa de Andalucía. El certamen està dedicat al cantaor Blas Maqueda, que ha participat durant molts anys al concurs i l'ha guanyat en dues ocasions.
URI:https://www.llagosta.cat/actualitat/noticies/la-30a-edicio-del-concurs-de-cante-jondo-comenca-dema-amb-la-primera-preliminar.html
CLASS:PUBLIC
END:VEVENT
END:VCALENDAR
