BEGIN:VCALENDAR
VERSION:2.0
CALSCALE:GREGORIAN
PRODID:-//Diputació de Barcelona//DibaCMS//EN
BEGIN:VEVENT
UID:6053
DTSTAMP:20260424T110110
DTSTART:20130503T000000
DTEND:20140503T000000
SUMMARY:El ral·li fotogràfic organitzat pel Joventut Handbol La Llagosta se celebrarà demà
LOCATION:
METHOD:PUBLISH
X-WR-CALNAME:llagosta@llagosta.cat
X-WR-TIMEZONE:Europe/Madrid
DESCRIPTION:El Joventut Handbol La Llagosta organitza demà, amb la col·laboració del Foto-Club La Llagosta, un ral·li fotogràfic. L'activitat està adreçada a infants i joves d'entre cinc i quinze anys. 
URI:https://www.llagosta.cat/actualitat/noticies/el-ralli-fotografic-organitzat-pel-joventut-handbol-la-llagosta-se-celebrara-dema.html
CLASS:PUBLIC
END:VEVENT
END:VCALENDAR
