BEGIN:VCALENDAR
VERSION:2.0
CALSCALE:GREGORIAN
PRODID:-//Diputació de Barcelona//DibaCMS//EN
BEGIN:VEVENT
UID:6052
DTSTAMP:20260422T204847
DTSTART:20130503T000000
DTEND:20140503T000000
SUMMARY:El sènior del Joventut Handbol té demà la primera oportunitat per pujar de categoria
LOCATION:
METHOD:PUBLISH
X-WR-CALNAME:llagosta@llagosta.cat
X-WR-TIMEZONE:Europe/Madrid
DESCRIPTION:El sènior del Joventut Handbol La Llagosta podria aconseguir demà l'ascens de forma matemàtica a Tercera Preferent Catalana si guanya el seu partit i els altres dos rivals del grup empaten. Els de la nostra localitat continuen al capdavant del grup A de la promoció d'ascens, després de guanyar el Sabadell per 22 a 26.
URI:https://www.llagosta.cat/actualitat/noticies/el-senior-del-joventut-handbol-te-dema-la-primera-oportunitat-per-pujar-de-categoria.html
CLASS:PUBLIC
END:VEVENT
END:VCALENDAR
