BEGIN:VCALENDAR
VERSION:2.0
CALSCALE:GREGORIAN
PRODID:-//Diputació de Barcelona//DibaCMS//EN
BEGIN:VEVENT
UID:6051
DTSTAMP:20260422T203915
DTSTART:20130503T000000
DTEND:20140503T000000
SUMMARY:El sènior de l'EBC per a l'Ametlla i haurà de jugar la promoció per la permanència
LOCATION:
METHOD:PUBLISH
X-WR-CALNAME:llagosta@llagosta.cat
X-WR-TIMEZONE:Europe/Madrid
DESCRIPTION:El sènior de l'Esportiu Bàsquet Club de la Llagosta ja no té cap opció d'evitar la promoció de permanència. Els llagostencs van perdre la jornada passada contra l'Ametlla per 77 a 40. Aquest cap de setmana rebran la visita del Roda.
URI:https://www.llagosta.cat/actualitat/noticies/el-senior-de-lebc-per-a-lametlla-i-haura-de-jugar-la-promocio-per-la-permanencia.html
CLASS:PUBLIC
END:VEVENT
END:VCALENDAR
