BEGIN:VCALENDAR
VERSION:2.0
CALSCALE:GREGORIAN
PRODID:-//Diputació de Barcelona//DibaCMS//EN
BEGIN:VEVENT
UID:6050
DTSTAMP:20260422T040350
DTSTART:20130503T000000
DTEND:20140503T000000
SUMMARY:L'onzena Bicicletada Popular per la llera recuperada del riu Besòs es disputarà diumenge
LOCATION:
METHOD:PUBLISH
X-WR-CALNAME:llagosta@llagosta.cat
X-WR-TIMEZONE:Europe/Madrid
DESCRIPTION:La Diputació de Barcelona i el Consorci per a la Defensa de la Conca del riu Besòs organitzaran diumenge l'onzena Bicicletada Popular per la llera recuperada del riu Besòs. La prova té el suport tècnic de la Federació Catalana de Ciclisme i comptarà amb un màxim de 1.500 participants. 
URI:https://www.llagosta.cat/actualitat/noticies/lonzena-bicicletada-popular-per-la-llera-recuperada-del-riu-besos-es-disputara-diumenge.html
CLASS:PUBLIC
END:VEVENT
END:VCALENDAR
