BEGIN:VCALENDAR
VERSION:2.0
CALSCALE:GREGORIAN
PRODID:-//Diputació de Barcelona//DibaCMS//EN
BEGIN:VEVENT
UID:6049
DTSTAMP:20260422T235104
DTSTART:20130503T000000
DTEND:20140503T000000
SUMMARY:Demà, se celebraran al Parc Popular diversos actes de les Jornades Solidàries 
LOCATION:
METHOD:PUBLISH
X-WR-CALNAME:llagosta@llagosta.cat
X-WR-TIMEZONE:Europe/Madrid
DESCRIPTION:El Parc Popular acollirà demà els actes que van ser ajornats dissabte a causa de la pluja i que formen part de la programació de les primeres Jornades Solidàries de la Llagosta. A partir de les sis de la tarda, se celebrarà una botifarrada popular amb jocs, tallers, inflables i animació familiar. 
URI:https://www.llagosta.cat/actualitat/noticies/dema-se-celebraran-al-parc-popular-diversos-actes-de-les-jornades-solidaries-.html
CLASS:PUBLIC
END:VEVENT
END:VCALENDAR
