BEGIN:VCALENDAR
VERSION:2.0
CALSCALE:GREGORIAN
PRODID:-//Diputació de Barcelona//DibaCMS//EN
BEGIN:VEVENT
UID:6048
DTSTAMP:20260422T074555
DTSTART:20130502T000000
DTEND:20140520T000000
SUMMARY:Avui surt al carrer el Butlletí d'Informació Municipal corresponent al mes de maig
LOCATION:
METHOD:PUBLISH
X-WR-CALNAME:llagosta@llagosta.cat
X-WR-TIMEZONE:Europe/Madrid
DESCRIPTION:L'Ajuntament distribueix avui el Butlletí d'Informació Municipal de maig. La publicació recull en portada l'aprovació del pressupost municipal de 2013. A l'interior, apareixen les principals notícies generades pel Consistori durant les darreres setmanes.
URI:https://www.llagosta.cat/actualitat/noticies/avui-surt-al-carrer-el-butlleti-dinformacio-municipal-corresponent-al-mes-de-maig.html
CLASS:PUBLIC
END:VEVENT
END:VCALENDAR
