BEGIN:VCALENDAR
VERSION:2.0
CALSCALE:GREGORIAN
PRODID:-//Diputació de Barcelona//DibaCMS//EN
BEGIN:VEVENT
UID:6047
DTSTAMP:20260422T122309
DTSTART:20130502T000000
DTEND:20140502T000000
SUMMARY:El CD La Concòrdia manté la cinquena posició després de derrotar el Cervera (4-2)
LOCATION:
METHOD:PUBLISH
X-WR-CALNAME:llagosta@llagosta.cat
X-WR-TIMEZONE:Europe/Madrid
DESCRIPTION:El Club Deportivo La Concòrdia va guanyar dissabte per 4 a 2 al Cervera. El proper cap de setmana, les de la nostra localitat rebran la visita del Castellbisbal, en partit endarrerit corresponent a la jornada 20.
URI:https://www.llagosta.cat/actualitat/noticies/el-cd-la-concordia-mante-la-cinquena-posicio-despres-de-derrotar-el-cervera-4-2.html
CLASS:PUBLIC
END:VEVENT
END:VCALENDAR
