BEGIN:VCALENDAR
VERSION:2.0
CALSCALE:GREGORIAN
PRODID:-//Diputació de Barcelona//DibaCMS//EN
BEGIN:VEVENT
UID:6046
DTSTAMP:20260423T021133
DTSTART:20130502T000000
DTEND:20140502T000000
SUMMARY:L'Ajuntament farà demà un taller d'orientació per a alumnes de 4t d'ESO de l'Institut Marina
LOCATION:
METHOD:PUBLISH
X-WR-CALNAME:llagosta@llagosta.cat
X-WR-TIMEZONE:Europe/Madrid
DESCRIPTION:Els alumnes de quart d'ESO de l'Institut Marina participaran demà en un taller d'orientació que pretén proporcionar als joves les eines necessàries per encarar el procés de recerca de feina amb la major informació possible. El taller es desenvoluparà per grups al llarg de tot el matí. 
URI:https://www.llagosta.cat/actualitat/noticies/lajuntament-fara-dema-un-taller-dorientacio-per-a-alumnes-de-4t-deso-de-linstitut-marina.html
CLASS:PUBLIC
END:VEVENT
END:VCALENDAR
