BEGIN:VCALENDAR
VERSION:2.0
CALSCALE:GREGORIAN
PRODID:-//Diputació de Barcelona//DibaCMS//EN
BEGIN:VEVENT
UID:6045
DTSTAMP:20260423T013306
DTSTART:20130502T000000
DTEND:20140502T000000
SUMMARY:L'alcalde, molt satisfet amb la tertúlia amb alumnes del Centre de Formació d'Adults
LOCATION:
METHOD:PUBLISH
X-WR-CALNAME:llagosta@llagosta.cat
X-WR-TIMEZONE:Europe/Madrid
DESCRIPTION:L'alcalde de la Llagosta, Alberto López, va participar dimarts al Centre de Formació d'Adults de la nostra localitat en una tertúlia amb un grup d'estudiants. Durant gairebé tres hores, López, que s'ha mostrat molt satisfet amb l'experiència, va respondre les preguntes que li van fer els alumnes.
URI:https://www.llagosta.cat/actualitat/noticies/lalcalde-molt-satisfet-amb-la-tertulia-amb-alumnes-del-centre-de-formacio-dadults.html
CLASS:PUBLIC
END:VEVENT
END:VCALENDAR
