BEGIN:VCALENDAR
VERSION:2.0
CALSCALE:GREGORIAN
PRODID:-//Diputació de Barcelona//DibaCMS//EN
BEGIN:VEVENT
UID:6044
DTSTAMP:20260422T211452
DTSTART:20130502T000000
DTEND:20140502T000000
SUMMARY:Convocat el Concurs de cartells de la Festa Major de la Llagosta 2013
LOCATION:
METHOD:PUBLISH
X-WR-CALNAME:llagosta@llagosta.cat
X-WR-TIMEZONE:Europe/Madrid
DESCRIPTION:L'Ajuntament de la Llagosta ha convocat el concurs per escollir el cartell de la Festa Major 2013. Com en els darrers anys, el cartell guanyador s'escollirà per votació popular. Enguany, s'amplia en una setmana el termini de presentació d'obres.
URI:https://www.llagosta.cat/actualitat/noticies/convocat-el-concurs-de-cartells-de-la-festa-major-de-la-llagosta-2013.html
CLASS:PUBLIC
END:VEVENT
END:VCALENDAR
