BEGIN:VCALENDAR
VERSION:2.0
CALSCALE:GREGORIAN
PRODID:-//Diputació de Barcelona//DibaCMS//EN
BEGIN:VEVENT
UID:6043
DTSTAMP:20260422T160152
DTSTART:20130430T000000
DTEND:20140430T000000
SUMMARY:Demà, La Llagosta + Activa vendrà entrades per al concert solidari del dia 12 de maig
LOCATION:
METHOD:PUBLISH
X-WR-CALNAME:llagosta@llagosta.cat
X-WR-TIMEZONE:Europe/Madrid
DESCRIPTION:La Llagosta + Activa instal·larà demà una taula informativa a l'avinguda de l'Onze de Setembre per vendre entrades per al concert solidari que organitzarà el dia 12 de maig a favor de la lluita contra la malària. Demà, les entrades es podran comprar d'11 a 13 hores i de 17 a 19 hores. 
URI:https://www.llagosta.cat/actualitat/noticies/dema-la-llagosta--activa-vendra-entrades-per-al-concert-solidari-del-dia-12-de-maig.html
CLASS:PUBLIC
END:VEVENT
END:VCALENDAR
