BEGIN:VCALENDAR
VERSION:2.0
CALSCALE:GREGORIAN
PRODID:-//Diputació de Barcelona//DibaCMS//EN
BEGIN:VEVENT
UID:6042
DTSTAMP:20260422T204802
DTSTART:20130430T000000
DTEND:20140430T000000
SUMMARY:Per segon any seguit no hi haurà colònies per a infants sahrauís a la Llagosta
LOCATION:
METHOD:PUBLISH
X-WR-CALNAME:llagosta@llagosta.cat
X-WR-TIMEZONE:Europe/Madrid
DESCRIPTION:Aquest any, tampoc no hi haurà colònies sahrauís a la Llagosta. No hi ha cap família de la nostra localitat interessada a acollir durant l'estiu infants procedents dels campaments de refugiats sahrauís de Tindouf, a Algèria.
URI:https://www.llagosta.cat/actualitat/noticies/per-segon-any-seguit-no-hi-haura-colonies-per-a-infants-sahrauis-a-la-llagosta.html
CLASS:PUBLIC
END:VEVENT
END:VCALENDAR
