BEGIN:VCALENDAR
VERSION:2.0
CALSCALE:GREGORIAN
PRODID:-//Diputació de Barcelona//DibaCMS//EN
BEGIN:VEVENT
UID:6041
DTSTAMP:20260423T145020
DTSTART:20130430T000000
DTEND:20140430T000000
SUMMARY:La Unión Llagostense empata a casa contra el líder, el Ripoll, i es col·loca tercer
LOCATION:
METHOD:PUBLISH
X-WR-CALNAME:llagosta@llagosta.cat
X-WR-TIMEZONE:Europe/Madrid
DESCRIPTION:El primer equip del Fútbol Sala Unión Llagostense va empatar el cap de setmana passat a quatre gols a casa contra el líder, el Ripoll. El partit va ser força igualat i els llagostencs, fins i tot, van tenir opcions per aconseguir el triomf.
URI:https://www.llagosta.cat/actualitat/noticies/la-union-llagostense-empata-a-casa-contra-el-lider-el-ripoll-i-es-colloca-tercer.html
CLASS:PUBLIC
END:VEVENT
END:VCALENDAR
