BEGIN:VCALENDAR
VERSION:2.0
CALSCALE:GREGORIAN
PRODID:-//Diputació de Barcelona//DibaCMS//EN
BEGIN:VEVENT
UID:6040
DTSTAMP:20260422T074221
DTSTART:20130430T000000
DTEND:20140430T000000
SUMMARY:El Club Deportivo Viejas Glorias posa fi a una ratxa de tres jornades sense guanyar
LOCATION:
METHOD:PUBLISH
X-WR-CALNAME:llagosta@llagosta.cat
X-WR-TIMEZONE:Europe/Madrid
DESCRIPTION:El Club Deportivo Viejas Glorias va guanyar dissabte el Castic per 4 a 2 i va posar fi a una ratxa de tres jornades sense aconseguir el triomf. Els de la nostra localitat van ser superiors en tot moment. 
URI:https://www.llagosta.cat/actualitat/noticies/el-club-deportivo-viejas-glorias-posa-fi-a-una-ratxa-de-tres-jornades-sense-guanyar.html
CLASS:PUBLIC
END:VEVENT
END:VCALENDAR
