BEGIN:VCALENDAR
VERSION:2.0
CALSCALE:GREGORIAN
PRODID:-//Diputació de Barcelona//DibaCMS//EN
BEGIN:VEVENT
UID:6039
DTSTAMP:20260423T131106
DTSTART:20130429T000000
DTEND:20140429T000000
SUMMARY:El concert de rock contra la malària es va celebrar dissabte al Centre Cultural
LOCATION:
METHOD:PUBLISH
X-WR-CALNAME:llagosta@llagosta.cat
X-WR-TIMEZONE:Europe/Madrid
DESCRIPTION:El Centre Cultural va acollir dissabte a la nit el concert de rock contra la malària organitzat per l'Associació Música Viva de la Llagosta. La resta dels actes previstos per a dissabte en el marc de les primeres Jornades Solidàries de la Llagosta es van haver d'ajornar a causa de la pluja.
URI:https://www.llagosta.cat/actualitat/noticies/el-concert-de-rock-contra-la-malaria-es-va-celebrar-dissabte-al-centre-cultural.html
CLASS:PUBLIC
END:VEVENT
END:VCALENDAR
