BEGIN:VCALENDAR
VERSION:2.0
CALSCALE:GREGORIAN
PRODID:-//Diputació de Barcelona//DibaCMS//EN
BEGIN:VEVENT
UID:6038
DTSTAMP:20260422T141534
DTSTART:20130429T000000
DTEND:20140429T000000
SUMMARY:La Llagosta i Santa Perpètua demanen un nou estudi d'impacte ambiental de la línia R3
LOCATION:
METHOD:PUBLISH
X-WR-CALNAME:llagosta@llagosta.cat
X-WR-TIMEZONE:Europe/Madrid
DESCRIPTION:L'alcalde de la Llagosta, Alberto López, i l'alcaldessa de Santa Perpètua de Mogoda, Isabel Garcia, han demanat per escrit al Ministeri de Medi Ambient que faci un nou estudi d'impacte ambiental del projecte de desdoblament de la línia de rodalies R3 entre Montcada i Vic. Els dos alcaldes creuen que tot el procediment administratiu relacionat amb l'estudi informatiu del projecte del Ministeri de Foment ha caducat. 
URI:https://www.llagosta.cat/actualitat/noticies/la-llagosta-i-santa-perpetua-demanen-un-nou-estudi-dimpacte-ambiental-de-la-linia-r3.html
CLASS:PUBLIC
END:VEVENT
END:VCALENDAR
