BEGIN:VCALENDAR
VERSION:2.0
CALSCALE:GREGORIAN
PRODID:-//Diputació de Barcelona//DibaCMS//EN
BEGIN:VEVENT
UID:6037
DTSTAMP:20260422T035519
DTSTART:20130429T000000
DTEND:20140429T000000
SUMMARY:El sènior del Vallag, amb baixes, perd a casa contra el Molins de Rei (25-33)
LOCATION:
METHOD:PUBLISH
X-WR-CALNAME:llagosta@llagosta.cat
X-WR-TIMEZONE:Europe/Madrid
DESCRIPTION:El sènior de l'Handbol Club Vallag de la Llagosta va perdre el cap de setmana per 25 a 33 contra el Molins de Rei, líder de la promoció d'ascens a Primera Catalana. Els de la nostra localitat van afrontar el partit amb baixes.
URI:https://www.llagosta.cat/actualitat/noticies/el-senior-del-vallag-amb-baixes-perd-a-casa-contra-el-molins-de-rei-25-33.html
CLASS:PUBLIC
END:VEVENT
END:VCALENDAR
