BEGIN:VCALENDAR
VERSION:2.0
CALSCALE:GREGORIAN
PRODID:-//Diputació de Barcelona//DibaCMS//EN
BEGIN:VEVENT
UID:6036
DTSTAMP:20260423T060907
DTSTART:20130429T000000
DTEND:20140429T000000
SUMMARY:Antonio García es proclama campió de la lliga francesa amb el París Sant Germain
LOCATION:
METHOD:PUBLISH
X-WR-CALNAME:llagosta@llagosta.cat
X-WR-TIMEZONE:Europe/Madrid
DESCRIPTION:El llagostenc Antonio García es va proclamar el cap de setmana campió de la lliga francesa d'handbol amb el seu equip, el París Saint Germain. El conjunt de García va derrotar el Cesson per 27 a 32 i es va assegurar matemàticament el títol a falta de quatre jornades per a la finalització del campionat. 
URI:https://www.llagosta.cat/actualitat/noticies/antonio-garcia-es-proclama-campio-de-la-lliga-francesa-amb-el-paris-sant-germain.html
CLASS:PUBLIC
END:VEVENT
END:VCALENDAR
