BEGIN:VCALENDAR
VERSION:2.0
CALSCALE:GREGORIAN
PRODID:-//Diputació de Barcelona//DibaCMS//EN
BEGIN:VEVENT
UID:6035
DTSTAMP:20260422T022014
DTSTART:20130429T000000
DTEND:20140429T000000
SUMMARY:L'alcalde participarà demà en una tertúlia al Centre de Formació d'Adults de la Llagosta
LOCATION:
METHOD:PUBLISH
X-WR-CALNAME:llagosta@llagosta.cat
X-WR-TIMEZONE:Europe/Madrid
DESCRIPTION:L'alcalde de la Llagosta, Alberto López, participarà demà al Centre de Formació d'Adults de la Llagosta en una tertúlia amb un grup d'estudiants. López respondrà les preguntes que li facin els alumnes en un acte que començarà a les sis de la tarda.
URI:https://www.llagosta.cat/actualitat/noticies/lalcalde-participara-dema-en-una-tertulia-al-centre-de-formacio-dadults-de-la-llagosta.html
CLASS:PUBLIC
END:VEVENT
END:VCALENDAR
