BEGIN:VCALENDAR
VERSION:2.0
CALSCALE:GREGORIAN
PRODID:-//Diputació de Barcelona//DibaCMS//EN
BEGIN:VEVENT
UID:6034
DTSTAMP:20260421T205802
DTSTART:20130426T000000
DTEND:20140426T000000
SUMMARY:Demà, se celebren més activitats a la Llagosta per recaptar fons contra la malària
LOCATION:
METHOD:PUBLISH
X-WR-CALNAME:llagosta@llagosta.cat
X-WR-TIMEZONE:Europe/Madrid
DESCRIPTION:Demà, es realitzaran a la Llagosta més activitats en el marc de les primeres Jornades Solidàries de la nostra localitat dedicades a la lluita contra la malària. L'objectiu d'aquesta iniciativa és sensibilitzar la població sobre el estralls que està provocant la malària arreu del món i, particularment, a Madagascar. 
URI:https://www.llagosta.cat/actualitat/noticies/dema-se-celebren-mes-activitats-a-la-llagosta-per-recaptar-fons-contra-la-malaria.html
CLASS:PUBLIC
END:VEVENT
END:VCALENDAR
