BEGIN:VCALENDAR
VERSION:2.0
CALSCALE:GREGORIAN
PRODID:-//Diputació de Barcelona//DibaCMS//EN
BEGIN:VEVENT
UID:6033
DTSTAMP:20260422T074346
DTSTART:20130426T000000
DTEND:20140426T000000
SUMMARY:La Colla Gegantera de la Llagosta participarà demà en la Trobada d'Hostalric
LOCATION:
METHOD:PUBLISH
X-WR-CALNAME:llagosta@llagosta.cat
X-WR-TIMEZONE:Europe/Madrid
DESCRIPTION:Els gegants de la nostra localitat aniran demà a Hostalric. La Colla Gegantera de la Llagosta participarà a la 24a Festa Gegantera d'aquesta localitat de la Selva. Els membres de la Colla Gegantera es concentraran a les quatre de la tarda al Centre Cultural per carregar els gegants i desplaçar-se fins a Hostalric. 
URI:https://www.llagosta.cat/actualitat/noticies/la-colla-gegantera-de-la-llagosta-participara-dema-en-la-trobada-dhostalric.html
CLASS:PUBLIC
END:VEVENT
END:VCALENDAR
