BEGIN:VCALENDAR
VERSION:2.0
CALSCALE:GREGORIAN
PRODID:-//Diputació de Barcelona//DibaCMS//EN
BEGIN:VEVENT
UID:6032
DTSTAMP:20260423T035951
DTSTART:20130426T000000
DTEND:20140426T000000
SUMMARY:Ja es pot fer la inscripció per participar en la Bicicletada per la llera del riu Besòs
LOCATION:
METHOD:PUBLISH
X-WR-CALNAME:llagosta@llagosta.cat
X-WR-TIMEZONE:Europe/Madrid
DESCRIPTION:Uns 1.500 ciclistes participaran el 5 de maig en l'onzena Bicicletada Popular per la llera recuperada del riu Besòs. La prova, organitzada per la Diputació de Barcelona i el Consorci per a la Defensa de la Conca del riu Besòs, amb el suport tècnic de la Federació Catalana de Ciclisme, va ser presentada ahir.
URI:https://www.llagosta.cat/actualitat/noticies/ja-es-pot-fer-la-inscripcio-per-participar-en-la-bicicletada-per-la-llera-del-riu-besos.html
CLASS:PUBLIC
END:VEVENT
END:VCALENDAR
