BEGIN:VCALENDAR
VERSION:2.0
CALSCALE:GREGORIAN
PRODID:-//Diputació de Barcelona//DibaCMS//EN
BEGIN:VEVENT
UID:6031
DTSTAMP:20260421T230744
DTSTART:20130426T000000
DTEND:20140426T000000
SUMMARY:El sènior del Joventut Handbol manté el liderat en guanyar el Garbí B de Palafrugell
LOCATION:
METHOD:PUBLISH
X-WR-CALNAME:llagosta@llagosta.cat
X-WR-TIMEZONE:Europe/Madrid
DESCRIPTION:El sènior del Joventut Handbol La Llagosta jugarà demà a la pista del Sabadell Handbol. Els de la nostra localitat van vèncer la jornada passada el Garbí B de Palafrugell per 31 a 23 i continuen liderant el grup A de la fase d'ascens.
URI:https://www.llagosta.cat/actualitat/noticies/el-senior-del-joventut-handbol-mante-el-liderat-en-guanyar-el-garbi-b-de-palafrugell.html
CLASS:PUBLIC
END:VEVENT
END:VCALENDAR
