BEGIN:VCALENDAR
VERSION:2.0
CALSCALE:GREGORIAN
PRODID:-//Diputació de Barcelona//DibaCMS//EN
BEGIN:VEVENT
UID:6030
DTSTAMP:20260422T105021
DTSTART:20130426T000000
DTEND:20140426T000000
SUMMARY:Part de l'avinguda del Primer de Maig estarà tallada demà al trànsit durant unes hores
LOCATION:
METHOD:PUBLISH
X-WR-CALNAME:llagosta@llagosta.cat
X-WR-TIMEZONE:Europe/Madrid
DESCRIPTION:Demà dissabte, romandrà tancada al trànsit l'avinguda del Primer de Maig entre les 8 del matí i les 4 de la tarda a causa dels treballs d'instal·lació del nou badalot d'entrada a l'aparcament de la plaça de la Concòrdia. El tall afectarà el tram de l'avinguda comprés entre els carrers de l'Estació i Progrés, sempre que la meteorologia permeti dur a terme els treballs d'instal·lació de l'estructura.
URI:https://www.llagosta.cat/actualitat/noticies/part-de-lavinguda-del-primer-de-maig-estara-tallada-dema-al-transit-durant-unes-hores.html
CLASS:PUBLIC
END:VEVENT
END:VCALENDAR
