BEGIN:VCALENDAR
VERSION:2.0
CALSCALE:GREGORIAN
PRODID:-//Diputació de Barcelona//DibaCMS//EN
BEGIN:VEVENT
UID:6029
DTSTAMP:20260422T033221
DTSTART:20130425T000000
DTEND:20140425T000000
SUMMARY:La Comissió Jove de la Festa Major 2013 de la Llagosta prepara diverses propostes
LOCATION:
METHOD:PUBLISH
X-WR-CALNAME:llagosta@llagosta.cat
X-WR-TIMEZONE:Europe/Madrid
DESCRIPTION:La Comissió Jove Festa Major 2013 està preparant tot un seguit de propostes de cara a la propera festa gran de la nostra localitat. Els membres de la comissió es van tornar a reunir ahir per definir el model de festa que volen per als joves.
URI:https://www.llagosta.cat/actualitat/noticies/la-comissio-jove-de-la-festa-major-2013-de-la-llagosta-prepara-diverses-propostes.html
CLASS:PUBLIC
END:VEVENT
END:VCALENDAR
