BEGIN:VCALENDAR
VERSION:2.0
CALSCALE:GREGORIAN
PRODID:-//Diputació de Barcelona//DibaCMS//EN
BEGIN:VEVENT
UID:6028
DTSTAMP:20260421T174224
DTSTART:20130425T000000
DTEND:20140425T000000
SUMMARY:El Mercat Municipal col·laborarà demà amb una acció amb el projecte Malària 40
LOCATION:
METHOD:PUBLISH
X-WR-CALNAME:llagosta@llagosta.cat
X-WR-TIMEZONE:Europe/Madrid
DESCRIPTION:El Mercat Municipal se sumarà demà a la campanya contra la Malària que promou l'Ajuntament de la Llagosta durant les primeres Jornades Solidàries de la nostra localitat. Els clients del Mercat podran jugar a la ruleta a canvi d'un donatiu per al projecte Malària 40.
URI:https://www.llagosta.cat/actualitat/noticies/el-mercat-municipal-collaborara-dema-amb-una-accio-amb-el-projecte-malaria-40.html
CLASS:PUBLIC
END:VEVENT
END:VCALENDAR
