BEGIN:VCALENDAR
VERSION:2.0
CALSCALE:GREGORIAN
PRODID:-//Diputació de Barcelona//DibaCMS//EN
BEGIN:VEVENT
UID:6027
DTSTAMP:20260422T104555
DTSTART:20130425T000000
DTEND:20140425T000000
SUMMARY:El sènior de l'EBC visita la pista de l'Ametlla en la seva lluita per la permanència
LOCATION:
METHOD:PUBLISH
X-WR-CALNAME:llagosta@llagosta.cat
X-WR-TIMEZONE:Europe/Madrid
DESCRIPTION:El sènior de l'Esportiu Bàsquet Club de la Llagosta es desplaçarà diumenge a la pista de l'Ametlla. Els de la nostra localitat necessiten la victòria en la seva lluita per la permanència. 
URI:https://www.llagosta.cat/actualitat/noticies/el-senior-de-lebc-visita-la-pista-de-lametlla-en-la-seva-lluita-per-la-permanencia.html
CLASS:PUBLIC
END:VEVENT
END:VCALENDAR
