BEGIN:VCALENDAR
VERSION:2.0
CALSCALE:GREGORIAN
PRODID:-//Diputació de Barcelona//DibaCMS//EN
BEGIN:VEVENT
UID:6026
DTSTAMP:20260421T230446
DTSTART:20130425T000000
DTEND:20140425T000000
SUMMARY:El CD La Concòrdia perd a la pista del líder, l'Hospitalet Bellsport, en un partit molt igualat
LOCATION:
METHOD:PUBLISH
X-WR-CALNAME:llagosta@llagosta.cat
X-WR-TIMEZONE:Europe/Madrid
DESCRIPTION:El Club Deportivo La Concòrdia va caure la jornada passada per 3 a 2 a la pista del líder, l'Hospitalet Bellsport. El conjunt llagostenc va fer un bon partit i va estar molt a prop d'aconseguir un resultat positiu.
URI:https://www.llagosta.cat/actualitat/noticies/el-cd-la-concordia-perd-a-la-pista-del-lider-lhospitalet-bellsport-en-un-partit-molt-igualat.html
CLASS:PUBLIC
END:VEVENT
END:VCALENDAR
