BEGIN:VCALENDAR
VERSION:2.0
CALSCALE:GREGORIAN
PRODID:-//Diputació de Barcelona//DibaCMS//EN
BEGIN:VEVENT
UID:6025
DTSTAMP:20260421T205715
DTSTART:20130424T000000
DTEND:20140424T000000
SUMMARY:L'atur es va redudir a la Llagosta durant el mes de març en cinc persones
LOCATION:
METHOD:PUBLISH
X-WR-CALNAME:llagosta@llagosta.cat
X-WR-TIMEZONE:Europe/Madrid
DESCRIPTION:L'atur al març va disminuir a la Llagosta en cinc persones. Aquest lleuger descens fa que la taxa de desocupació a la nostra localitat es mantingui estable respecte al febrer, una mica per sobre del 22%.
URI:https://www.llagosta.cat/actualitat/noticies/latur-es-va-redudir-a-la-llagosta-durant-el-mes-de-marc-en-cinc-persones.html
CLASS:PUBLIC
END:VEVENT
END:VCALENDAR
