BEGIN:VCALENDAR
VERSION:2.0
CALSCALE:GREGORIAN
PRODID:-//Diputació de Barcelona//DibaCMS//EN
BEGIN:VEVENT
UID:6024
DTSTAMP:20260422T235343
DTSTART:20130424T000000
DTEND:20140424T000000
SUMMARY:El Club de Judo del Gimnàs La Llagosta aconsegueix quatre noves medalles
LOCATION:
METHOD:PUBLISH
X-WR-CALNAME:llagosta@llagosta.cat
X-WR-TIMEZONE:Europe/Madrid
DESCRIPTION:El Club de Judo del Gimnàs La Llagosta va aconseguir quatre medalles de bronze el  cap de setmana al Campionat de Catalunya. Tres judokes de la nostra localitat van pujar al podi a la categoria sub-15 i un més, a la sub-18. 
URI:https://www.llagosta.cat/actualitat/noticies/el-club-de-judo-del-gimnas-la-llagosta-aconsegueix-quatre-noves-medalles.html
CLASS:PUBLIC
END:VEVENT
END:VCALENDAR
