BEGIN:VCALENDAR
VERSION:2.0
CALSCALE:GREGORIAN
PRODID:-//Diputació de Barcelona//DibaCMS//EN
BEGIN:VEVENT
UID:6023
DTSTAMP:20260421T224056
DTSTART:20130424T000000
DTEND:20140424T000000
SUMMARY:El sènior del Vallag cau a la pista del Mataró (33-31) i el cuer de la fase d'ascens
LOCATION:
METHOD:PUBLISH
X-WR-CALNAME:llagosta@llagosta.cat
X-WR-TIMEZONE:Europe/Madrid
DESCRIPTION:El sènior de l'Handbol Club Vallag de la Llagosta va tornar a perdre el cap de setmana passat. Els de la nostra localitat van caure per un ajustat 33 a 31 a la pista del Mataró. 
URI:https://www.llagosta.cat/actualitat/noticies/el-senior-del-vallag-cau-a-la-pista-del-mataro-33-31-i-el-cuer-de-la-fase-dascens.html
CLASS:PUBLIC
END:VEVENT
END:VCALENDAR
