BEGIN:VCALENDAR
VERSION:2.0
CALSCALE:GREGORIAN
PRODID:-//Diputació de Barcelona//DibaCMS//EN
BEGIN:VEVENT
UID:6022
DTSTAMP:20260423T000737
DTSTART:20130423T000000
DTEND:20140423T000000
SUMMARY:La Llagosta viu una Diada de Sant Jordi amb moltes activitats a la plaça d'Antoni Baqué
LOCATION:
METHOD:PUBLISH
X-WR-CALNAME:llagosta@llagosta.cat
X-WR-TIMEZONE:Europe/Madrid
DESCRIPTION:Avui, la Llagosta celebra la Diada de Sant Jordi. Com arreu, els llibres i les roses han tornat a sortir als carrers de la nostra localitat. La plaça d'Antoni Baqué s'ha convertit, novament, en el centre de les activitats que s'organitzen.
URI:https://www.llagosta.cat/actualitat/noticies/la-llagosta-viu-una-diada-de-sant-jordi-amb-moltes-activitats-a-la-placa-dantoni-baque.html
CLASS:PUBLIC
END:VEVENT
END:VCALENDAR
