BEGIN:VCALENDAR
VERSION:2.0
CALSCALE:GREGORIAN
PRODID:-//Diputació de Barcelona//DibaCMS//EN
BEGIN:VEVENT
UID:6021
DTSTAMP:20260422T072744
DTSTART:20130423T000000
DTEND:20140423T000000
SUMMARY:Bona afluència de públic diumenge a la 37a Ballada de Gitanes de la Llagosta
LOCATION:
METHOD:PUBLISH
X-WR-CALNAME:llagosta@llagosta.cat
X-WR-TIMEZONE:Europe/Madrid
DESCRIPTION:El passeig de l'avinguda de l'Onze de Setembre va registrar una bona afluència de públic durant la Ballada organitzada pel Grup de Ball de Gitanes de la nostra localitat. L'acte, que arribava a la seva 37a edició, es va desenvolupar diumenge al matí. 
URI:https://www.llagosta.cat/actualitat/noticies/bona-afluencia-de-public-diumenge-a-la-37a-ballada-de-gitanes-de-la-llagosta.html
CLASS:PUBLIC
END:VEVENT
END:VCALENDAR
