BEGIN:VCALENDAR
VERSION:2.0
CALSCALE:GREGORIAN
PRODID:-//Diputació de Barcelona//DibaCMS//EN
BEGIN:VEVENT
UID:6020
DTSTAMP:20260422T100037
DTSTART:20130423T000000
DTEND:20140423T000000
SUMMARY:El Viejas Glorias, amb moltes baixes, cau al camp del Canyelles per 3 gols a 2
LOCATION:
METHOD:PUBLISH
X-WR-CALNAME:llagosta@llagosta.cat
X-WR-TIMEZONE:Europe/Madrid
DESCRIPTION:El Club Deportivo Viejas Glorias va perdre el cap de setmana al camp del Canyelles per 3 a 2. Els llagostencs van afrontar el partit amb moltes baixes i amb alguns jugadors tocats.
URI:https://www.llagosta.cat/actualitat/noticies/el-viejas-glorias-amb-moltes-baixes-cau-al-camp-del-canyelles-per-3-gols-a-2.html
CLASS:PUBLIC
END:VEVENT
END:VCALENDAR
