BEGIN:VCALENDAR
VERSION:2.0
CALSCALE:GREGORIAN
PRODID:-//Diputació de Barcelona//DibaCMS//EN
BEGIN:VEVENT
UID:6019
DTSTAMP:20260422T134413
DTSTART:20130423T000000
DTEND:20140423T000000
SUMMARY:La Unión Llagostense guanya a la pista del Sansur (1-3) abans de jugar contra el líder
LOCATION:
METHOD:PUBLISH
X-WR-CALNAME:llagosta@llagosta.cat
X-WR-TIMEZONE:Europe/Madrid
DESCRIPTION:El primer equip del Fútbol Sala Unión Llagostense va guanyar la jornada passada a la pista del Sansur per 1 a 3. Els de José Manuel Poyato no van tenir cap problema per sumar tres nous punts.
URI:https://www.llagosta.cat/actualitat/noticies/la-union-llagostense-guanya-a-la-pista-del-sansur-1-3-abans-de-jugar-contra-el-lider.html
CLASS:PUBLIC
END:VEVENT
END:VCALENDAR
