BEGIN:VCALENDAR
VERSION:2.0
CALSCALE:GREGORIAN
PRODID:-//Diputació de Barcelona//DibaCMS//EN
BEGIN:VEVENT
UID:6018
DTSTAMP:20260422T203954
DTSTART:20130422T000000
DTEND:20140422T000000
SUMMARY:La plaça d'Antoni Baqué acollirà demà diversos actes per celebrar la Diada de Sant Jordi
LOCATION:
METHOD:PUBLISH
X-WR-CALNAME:llagosta@llagosta.cat
X-WR-TIMEZONE:Europe/Madrid
DESCRIPTION:La Llagosta tornarà a celebrar demà la Diada de Sant Jordi amb un bon grapat de propostes per a tots els públics. A banda de la tradicional venda de roses i llibres, la plaça d'Antoni Baqué acollirà altres activitats culturals.
URI:https://www.llagosta.cat/actualitat/noticies/la-placa-dantoni-baque-acollira-dema-diversos-actes-per-celebrar-la-diada-de-sant-jordi.html
CLASS:PUBLIC
END:VEVENT
END:VCALENDAR
