BEGIN:VCALENDAR
VERSION:2.0
CALSCALE:GREGORIAN
PRODID:-//Diputació de Barcelona//DibaCMS//EN
BEGIN:VEVENT
UID:6017
DTSTAMP:20260422T020137
DTSTART:20130422T000000
DTEND:20140422T000000
SUMMARY:Alberto López, membre de la Comissió Executiva d'Iniciativa per Catalunya Verds
LOCATION:
METHOD:PUBLISH
X-WR-CALNAME:llagosta@llagosta.cat
X-WR-TIMEZONE:Europe/Madrid
DESCRIPTION:L'alcalde de la Llagosta i vicepresident local i comarcal d'Iniciativa per Catalunya Verds, Alberto López, forma part de la nova Comissió Executiva de la formació ecosocialista. López també continuarà sent membre del Consell Nacional d'ICV.
URI:https://www.llagosta.cat/actualitat/noticies/alberto-lopez-membre-de-la-comissio-executiva-diniciativa-per-catalunya-verds.html
CLASS:PUBLIC
END:VEVENT
END:VCALENDAR
