BEGIN:VCALENDAR
VERSION:2.0
CALSCALE:GREGORIAN
PRODID:-//Diputació de Barcelona//DibaCMS//EN
BEGIN:VEVENT
UID:6016
DTSTAMP:20260422T004040
DTSTART:20130422T000000
DTEND:20140422T000000
SUMMARY:Comencen les primeres Jornades Solidàries de la Llagosta amb una exposició fotogràfica
LOCATION:
METHOD:PUBLISH
X-WR-CALNAME:llagosta@llagosta.cat
X-WR-TIMEZONE:Europe/Madrid
DESCRIPTION:L'Ajuntament de la Llagosta va organitzar un acte divendres al Centre Cultural per presentar el projecte Malària 40 i per inaugurar l'exposició fotogràfica que forma part de les primeres Jornades Solidàries de la nostra localitat, dedicades a la lluita contra la malària. Des de l'any 2008, Malària 40 ha salvat 1.600 nens de Madagascar de la malària.
URI:https://www.llagosta.cat/actualitat/noticies/comencen-les-primeres-jornades-solidaries-de-la-llagosta-amb-una-exposicio-fotografica.html
CLASS:PUBLIC
END:VEVENT
END:VCALENDAR
