BEGIN:VCALENDAR
VERSION:2.0
CALSCALE:GREGORIAN
PRODID:-//Diputació de Barcelona//DibaCMS//EN
BEGIN:VEVENT
UID:6015
DTSTAMP:20260422T184452
DTSTART:20130422T000000
DTEND:20140422T000000
SUMMARY:Molt de públic i gran qualitat musical durant el 23è Aplec de la sardana de la Llagosta
LOCATION:
METHOD:PUBLISH
X-WR-CALNAME:llagosta@llagosta.cat
X-WR-TIMEZONE:Europe/Madrid
DESCRIPTION:L'Agrupació Sardanista de la Llagosta ha fet un balanç molt positiu del 23è Aplec de la sardana de la Llagosta, que es va celebrar ahir per la tarda al Parc Popular. L'entitat ha destacat la gran presència de públic i la qualitat de les cobles que van amenitzar l'activitat.
URI:https://www.llagosta.cat/actualitat/noticies/molt-de-public-i-gran-qualitat-musical-durant-el-23e-aplec-de-la-sardana-de-la-llagosta.html
CLASS:PUBLIC
END:VEVENT
END:VCALENDAR
