BEGIN:VCALENDAR
VERSION:2.0
CALSCALE:GREGORIAN
PRODID:-//Diputació de Barcelona//DibaCMS//EN
BEGIN:VEVENT
UID:6014
DTSTAMP:20260422T060206
DTSTART:20130419T000000
DTEND:20140419T000000
SUMMARY:Demà, al Casal Popular La República, xerrada sobre la revolució bolivariana i chavista
LOCATION:
METHOD:PUBLISH
X-WR-CALNAME:llagosta@llagosta.cat
X-WR-TIMEZONE:Europe/Madrid
DESCRIPTION:El Casal Popular La República de la Llagosta organitzarà demà una xerrada sota el títol de La Revolució bolivariana i chavista i el panorama post-electoral. L'acte començarà a les set de la tarda a la seva seu, a la plaça de Pere IV, número 3.
URI:https://www.llagosta.cat/actualitat/noticies/dema-al-casal-popular-la-republica-xerrada-sobre-la-revolucio-bolivariana-i-chavista.html
CLASS:PUBLIC
END:VEVENT
END:VCALENDAR
