BEGIN:VCALENDAR
VERSION:2.0
CALSCALE:GREGORIAN
PRODID:-//Diputació de Barcelona//DibaCMS//EN
BEGIN:VEVENT
UID:6013
DTSTAMP:20260422T151206
DTSTART:20130419T000000
DTEND:20140419T000000
SUMMARY:Veus de Dona organitzarà diumenge una passejada fins a l'Ermita de Reixac
LOCATION:
METHOD:PUBLISH
X-WR-CALNAME:llagosta@llagosta.cat
X-WR-TIMEZONE:Europe/Madrid
DESCRIPTION:Sota el lema Mai caminaràs sola!, l'Associació Veus de Dona organitza diumenge una passejada fins a l'Ermita de Reixac, a la serralada de Marina. La sortida es farà a les deu del matí des de la plaça d'Antoni Baqué i la tornada, al voltant de dos quarts de dues.
URI:https://www.llagosta.cat/actualitat/noticies/veus-de-dona-organitzara-diumenge-una-passejada-fins-a-lermita-de-reixac.html
CLASS:PUBLIC
END:VEVENT
END:VCALENDAR
